BEGIN:VCALENDAR
VERSION:2.0
PRODID:-//Roark Creek Resort Condos in Branson, MO - ECPv6.15.20//NONSGML v1.0//EN
CALSCALE:GREGORIAN
METHOD:PUBLISH
X-WR-CALNAME:Roark Creek Resort Condos in Branson, MO
X-ORIGINAL-URL:https://roarkcreekresort.com
X-WR-CALDESC:Events for Roark Creek Resort Condos in Branson, MO
REFRESH-INTERVAL;VALUE=DURATION:PT1H
X-Robots-Tag:noindex
X-PUBLISHED-TTL:PT1H
BEGIN:VTIMEZONE
TZID:UTC
BEGIN:STANDARD
TZOFFSETFROM:+0000
TZOFFSETTO:+0000
TZNAME:UTC
DTSTART:20250101T000000
END:STANDARD
END:VTIMEZONE
BEGIN:VEVENT
DTSTART;TZID=UTC:20260117T170000
DTEND;TZID=UTC:20261231T213000
DTSTAMP:20260423T144152
CREATED:20260126T192646Z
LAST-MODIFIED:20260126T200046Z
UID:6354-1768669200-1798752600@roarkcreekresort.com
SUMMARY:WhoDunnit Hoedown – A Murder Mystery Dinner Show
DESCRIPTION:Amazing Acrobats of Shanghai featuring Shanghai Circus				\n				\n				\n									\n					\n		\n					\n		\n				\n						\n					\n			\n						\n					World-Class Acrobatics & Jaw-Dropping Feats				\n				\n									Amazing Acrobats of Shanghai brings an internationally acclaimed circus experience to Branson\, featuring elite performers trained in traditional Chinese acrobatic arts. Audiences are treated to daring aerial acts\, precision balancing\, contortion\, and high-energy choreography that blends strength\, agility\, and beauty. Every act showcases years of discipline and skill\, making this one of Branson’s most visually stunning shows. Who It’s For: Families\, thrill-seekers\, and circus fans.What to Expect: Acrobatics\, balance acts\, and aerial stunts.Do’s: Sit closer for full visual impact.Don’ts: Don’t blink — you’ll miss something incredible. 								\n					\n		\n				\n			\n						\n						\n					\n			\n				\n					\n				\n									Information📍 Venue: Mickey Gilley Theatre Grand Shanghai \, 3455 W 76 Country Boulevard Branson\, MO 65616📞 Phone: 800-987-6298 🌐 Website: grandshanghaitheatre.com/shanghai-circusDistance from Roark Creek Resort: 4.9  miles / ~9 min Opening Hours🕒 Opening Hours: Showtimes vary What to Know• Type of Experience: Acrobatic circus performance.• Fun Fact: Performers are trained from a young age in traditional Chinese circus schools. 								\n					\n				\n					\n		\n					\n		\n					\n		\n					\n		\n				\n						\n					\n			\n						\n							\n			\n											\n												\n											\n					\n											\n				\n									\n									\n						\n					\n		\n					\n		\n		\n					\n				\n				\n					\n	\n		\n\n	\n	Add to calendar	\n		\n	\n\n		\n			\n									\n	Google Calendar\n\n									\n	iCalendar\n\n									\n	Outlook 365\n\n									\n	Outlook Live\n\n							\n		\n\n		\n	\n\n				\n				\n				\n				\n					\n	« All Events
URL:https://roarkcreekresort.com/event/whodunnit-hoedown-a-murder-mystery-dinner-show/
ATTACH;FMTTYPE=image/webp:https://roarkcreekresort.com/wp-content/uploads/2026/01/hero-7.webp
END:VEVENT
BEGIN:VEVENT
DTSTART;TZID=UTC:20260116T170000
DTEND;TZID=UTC:20261230T220000
DTSTAMP:20260423T144152
CREATED:20260126T173946Z
LAST-MODIFIED:20260126T200109Z
UID:6339-1768582800-1798668000@roarkcreekresort.com
SUMMARY:Grand Jubilee
DESCRIPTION:Amazing Acrobats of Shanghai featuring Shanghai Circus				\n				\n				\n									\n					\n		\n					\n		\n				\n						\n					\n			\n						\n					World-Class Acrobatics & Jaw-Dropping Feats				\n				\n									Amazing Acrobats of Shanghai brings an internationally acclaimed circus experience to Branson\, featuring elite performers trained in traditional Chinese acrobatic arts. Audiences are treated to daring aerial acts\, precision balancing\, contortion\, and high-energy choreography that blends strength\, agility\, and beauty. Every act showcases years of discipline and skill\, making this one of Branson’s most visually stunning shows. Who It’s For: Families\, thrill-seekers\, and circus fans.What to Expect: Acrobatics\, balance acts\, and aerial stunts.Do’s: Sit closer for full visual impact.Don’ts: Don’t blink — you’ll miss something incredible. 								\n					\n		\n				\n			\n						\n						\n					\n			\n				\n					\n				\n									Information📍 Venue: Mickey Gilley Theatre Grand Shanghai \, 3455 W 76 Country Boulevard Branson\, MO 65616📞 Phone: 800-987-6298 🌐 Website: grandshanghaitheatre.com/shanghai-circusDistance from Roark Creek Resort: 4.9  miles / ~9 min Opening Hours🕒 Opening Hours: Showtimes vary What to Know• Type of Experience: Acrobatic circus performance.• Fun Fact: Performers are trained from a young age in traditional Chinese circus schools. 								\n					\n				\n					\n		\n					\n		\n					\n		\n					\n		\n				\n						\n					\n			\n						\n							\n			\n											\n												\n											\n					\n											\n				\n									\n									\n						\n					\n		\n					\n		\n		\n					\n				\n				\n					\n	\n		\n\n	\n	Add to calendar	\n		\n	\n\n		\n			\n									\n	Google Calendar\n\n									\n	iCalendar\n\n									\n	Outlook 365\n\n									\n	Outlook Live\n\n							\n		\n\n		\n	\n\n				\n				\n				\n				\n					\n	« All Events
URL:https://roarkcreekresort.com/event/grand-jubilee/
ATTACH;FMTTYPE=image/webp:https://roarkcreekresort.com/wp-content/uploads/2026/01/hero-6.webp
END:VEVENT
BEGIN:VEVENT
DTSTART;TZID=UTC:20260116T150000
DTEND;TZID=UTC:20261231T213000
DTSTAMP:20260423T144152
CREATED:20260126T173401Z
LAST-MODIFIED:20260126T200131Z
UID:6324-1768575600-1798752600@roarkcreekresort.com
SUMMARY:Comedy Jamboree
DESCRIPTION:Amazing Acrobats of Shanghai featuring Shanghai Circus				\n				\n				\n									\n					\n		\n					\n		\n				\n						\n					\n			\n						\n					World-Class Acrobatics & Jaw-Dropping Feats				\n				\n									Amazing Acrobats of Shanghai brings an internationally acclaimed circus experience to Branson\, featuring elite performers trained in traditional Chinese acrobatic arts. Audiences are treated to daring aerial acts\, precision balancing\, contortion\, and high-energy choreography that blends strength\, agility\, and beauty. Every act showcases years of discipline and skill\, making this one of Branson’s most visually stunning shows. Who It’s For: Families\, thrill-seekers\, and circus fans.What to Expect: Acrobatics\, balance acts\, and aerial stunts.Do’s: Sit closer for full visual impact.Don’ts: Don’t blink — you’ll miss something incredible. 								\n					\n		\n				\n			\n						\n						\n					\n			\n				\n					\n				\n									Information📍 Venue: Mickey Gilley Theatre Grand Shanghai \, 3455 W 76 Country Boulevard Branson\, MO 65616📞 Phone: 800-987-6298 🌐 Website: grandshanghaitheatre.com/shanghai-circusDistance from Roark Creek Resort: 4.9  miles / ~9 min Opening Hours🕒 Opening Hours: Showtimes vary What to Know• Type of Experience: Acrobatic circus performance.• Fun Fact: Performers are trained from a young age in traditional Chinese circus schools. 								\n					\n				\n					\n		\n					\n		\n					\n		\n					\n		\n				\n						\n					\n			\n						\n							\n			\n											\n												\n											\n					\n											\n				\n									\n									\n						\n					\n		\n					\n		\n		\n					\n				\n				\n					\n	\n		\n\n	\n	Add to calendar	\n		\n	\n\n		\n			\n									\n	Google Calendar\n\n									\n	iCalendar\n\n									\n	Outlook 365\n\n									\n	Outlook Live\n\n							\n		\n\n		\n	\n\n				\n				\n				\n				\n					\n	« All Events
URL:https://roarkcreekresort.com/event/comedy-jamboree/
ATTACH;FMTTYPE=image/webp:https://roarkcreekresort.com/wp-content/uploads/2026/01/Hero-5.webp
END:VEVENT
BEGIN:VEVENT
DTSTART;TZID=UTC:20260115T080000
DTEND;TZID=UTC:20261231T220000
DTSTAMP:20260423T144152
CREATED:20260116T145155Z
LAST-MODIFIED:20260203T143055Z
UID:6101-1768464000-1798754400@roarkcreekresort.com
SUMMARY:Riga Tony’s Branson’s Best Murder Mystery Dinner Show
DESCRIPTION:Amazing Acrobats of Shanghai featuring Shanghai Circus				\n				\n				\n									\n					\n		\n					\n		\n				\n						\n					\n			\n						\n					World-Class Acrobatics & Jaw-Dropping Feats				\n				\n									Amazing Acrobats of Shanghai brings an internationally acclaimed circus experience to Branson\, featuring elite performers trained in traditional Chinese acrobatic arts. Audiences are treated to daring aerial acts\, precision balancing\, contortion\, and high-energy choreography that blends strength\, agility\, and beauty. Every act showcases years of discipline and skill\, making this one of Branson’s most visually stunning shows. Who It’s For: Families\, thrill-seekers\, and circus fans.What to Expect: Acrobatics\, balance acts\, and aerial stunts.Do’s: Sit closer for full visual impact.Don’ts: Don’t blink — you’ll miss something incredible. 								\n					\n		\n				\n			\n						\n						\n					\n			\n				\n					\n				\n									Information📍 Venue: Mickey Gilley Theatre Grand Shanghai \, 3455 W 76 Country Boulevard Branson\, MO 65616📞 Phone: 800-987-6298 🌐 Website: grandshanghaitheatre.com/shanghai-circusDistance from Roark Creek Resort: 4.9  miles / ~9 min Opening Hours🕒 Opening Hours: Showtimes vary What to Know• Type of Experience: Acrobatic circus performance.• Fun Fact: Performers are trained from a young age in traditional Chinese circus schools. 								\n					\n				\n					\n		\n					\n		\n					\n		\n					\n		\n				\n						\n					\n			\n						\n							\n			\n											\n												\n											\n					\n											\n				\n									\n									\n						\n					\n		\n					\n		\n		\n					\n				\n				\n					\n	\n		\n\n	\n	Add to calendar	\n		\n	\n\n		\n			\n									\n	Google Calendar\n\n									\n	iCalendar\n\n									\n	Outlook 365\n\n									\n	Outlook Live\n\n							\n		\n\n		\n	\n\n				\n				\n				\n				\n					\n	« All Events
URL:https://roarkcreekresort.com/event/riga-tonys-bransons-best-murder-mystery-dinner-show/
ATTACH;FMTTYPE=image/webp:https://roarkcreekresort.com/wp-content/uploads/2026/01/hero.webp
END:VEVENT
BEGIN:VEVENT
DTSTART;TZID=UTC:20260101T170000
DTEND;TZID=UTC:20261231T220000
DTSTAMP:20260423T144152
CREATED:20260202T201754Z
LAST-MODIFIED:20260202T202251Z
UID:6419-1767286800-1798754400@roarkcreekresort.com
SUMMARY:The Haygoods – Branson’s Most Popular Show
DESCRIPTION:Amazing Acrobats of Shanghai featuring Shanghai Circus				\n				\n				\n									\n					\n		\n					\n		\n				\n						\n					\n			\n						\n					World-Class Acrobatics & Jaw-Dropping Feats				\n				\n									Amazing Acrobats of Shanghai brings an internationally acclaimed circus experience to Branson\, featuring elite performers trained in traditional Chinese acrobatic arts. Audiences are treated to daring aerial acts\, precision balancing\, contortion\, and high-energy choreography that blends strength\, agility\, and beauty. Every act showcases years of discipline and skill\, making this one of Branson’s most visually stunning shows. Who It’s For: Families\, thrill-seekers\, and circus fans.What to Expect: Acrobatics\, balance acts\, and aerial stunts.Do’s: Sit closer for full visual impact.Don’ts: Don’t blink — you’ll miss something incredible. 								\n					\n		\n				\n			\n						\n						\n					\n			\n				\n					\n				\n									Information📍 Venue: Mickey Gilley Theatre Grand Shanghai \, 3455 W 76 Country Boulevard Branson\, MO 65616📞 Phone: 800-987-6298 🌐 Website: grandshanghaitheatre.com/shanghai-circusDistance from Roark Creek Resort: 4.9  miles / ~9 min Opening Hours🕒 Opening Hours: Showtimes vary What to Know• Type of Experience: Acrobatic circus performance.• Fun Fact: Performers are trained from a young age in traditional Chinese circus schools. 								\n					\n				\n					\n		\n					\n		\n					\n		\n					\n		\n				\n						\n					\n			\n						\n							\n			\n											\n												\n											\n					\n											\n				\n									\n									\n						\n					\n		\n					\n		\n		\n					\n				\n				\n					\n	\n		\n\n	\n	Add to calendar	\n		\n	\n\n		\n			\n									\n	Google Calendar\n\n									\n	iCalendar\n\n									\n	Outlook 365\n\n									\n	Outlook Live\n\n							\n		\n\n		\n	\n\n				\n				\n				\n				\n					\n	« All Events
URL:https://roarkcreekresort.com/event/the-haygoods-bransons-most-popular-show/
ATTACH;FMTTYPE=image/webp:https://roarkcreekresort.com/wp-content/uploads/2026/02/Hero-1.webp
END:VEVENT
BEGIN:VEVENT
DTSTART;TZID=UTC:20260101T160000
DTEND;TZID=UTC:20261231T213000
DTSTAMP:20260423T144152
CREATED:20260216T181302Z
LAST-MODIFIED:20260216T182111Z
UID:6626-1767283200-1798752600@roarkcreekresort.com
SUMMARY:Hits of the 60’s – Branson
DESCRIPTION:Amazing Acrobats of Shanghai featuring Shanghai Circus				\n				\n				\n									\n					\n		\n					\n		\n				\n						\n					\n			\n						\n					World-Class Acrobatics & Jaw-Dropping Feats				\n				\n									Amazing Acrobats of Shanghai brings an internationally acclaimed circus experience to Branson\, featuring elite performers trained in traditional Chinese acrobatic arts. Audiences are treated to daring aerial acts\, precision balancing\, contortion\, and high-energy choreography that blends strength\, agility\, and beauty. Every act showcases years of discipline and skill\, making this one of Branson’s most visually stunning shows. Who It’s For: Families\, thrill-seekers\, and circus fans.What to Expect: Acrobatics\, balance acts\, and aerial stunts.Do’s: Sit closer for full visual impact.Don’ts: Don’t blink — you’ll miss something incredible. 								\n					\n		\n				\n			\n						\n						\n					\n			\n				\n					\n				\n									Information📍 Venue: Mickey Gilley Theatre Grand Shanghai \, 3455 W 76 Country Boulevard Branson\, MO 65616📞 Phone: 800-987-6298 🌐 Website: grandshanghaitheatre.com/shanghai-circusDistance from Roark Creek Resort: 4.9  miles / ~9 min Opening Hours🕒 Opening Hours: Showtimes vary What to Know• Type of Experience: Acrobatic circus performance.• Fun Fact: Performers are trained from a young age in traditional Chinese circus schools. 								\n					\n				\n					\n		\n					\n		\n					\n		\n					\n		\n				\n						\n					\n			\n						\n							\n			\n											\n												\n											\n					\n											\n				\n									\n									\n						\n					\n		\n					\n		\n		\n					\n				\n				\n					\n	\n		\n\n	\n	Add to calendar	\n		\n	\n\n		\n			\n									\n	Google Calendar\n\n									\n	iCalendar\n\n									\n	Outlook 365\n\n									\n	Outlook Live\n\n							\n		\n\n		\n	\n\n				\n				\n				\n				\n					\n	« All Events
URL:https://roarkcreekresort.com/event/hits-of-the-60s-branson/
ATTACH;FMTTYPE=image/webp:https://roarkcreekresort.com/wp-content/uploads/2026/02/Hero-9.webp
END:VEVENT
BEGIN:VEVENT
DTSTART;TZID=UTC:20260101T150000
DTEND;TZID=UTC:20261231T213000
DTSTAMP:20260423T144152
CREATED:20260420T123835Z
LAST-MODIFIED:20260420T124055Z
UID:7367-1767279600-1798752600@roarkcreekresort.com
SUMMARY:Hamners’ Unbelievable Magic Variety Show
DESCRIPTION:Amazing Acrobats of Shanghai featuring Shanghai Circus				\n				\n				\n									\n					\n		\n					\n		\n				\n						\n					\n			\n						\n					World-Class Acrobatics & Jaw-Dropping Feats				\n				\n									Amazing Acrobats of Shanghai brings an internationally acclaimed circus experience to Branson\, featuring elite performers trained in traditional Chinese acrobatic arts. Audiences are treated to daring aerial acts\, precision balancing\, contortion\, and high-energy choreography that blends strength\, agility\, and beauty. Every act showcases years of discipline and skill\, making this one of Branson’s most visually stunning shows. Who It’s For: Families\, thrill-seekers\, and circus fans.What to Expect: Acrobatics\, balance acts\, and aerial stunts.Do’s: Sit closer for full visual impact.Don’ts: Don’t blink — you’ll miss something incredible. 								\n					\n		\n				\n			\n						\n						\n					\n			\n				\n					\n				\n									Information📍 Venue: Mickey Gilley Theatre Grand Shanghai \, 3455 W 76 Country Boulevard Branson\, MO 65616📞 Phone: 800-987-6298 🌐 Website: grandshanghaitheatre.com/shanghai-circusDistance from Roark Creek Resort: 4.9  miles / ~9 min Opening Hours🕒 Opening Hours: Showtimes vary What to Know• Type of Experience: Acrobatic circus performance.• Fun Fact: Performers are trained from a young age in traditional Chinese circus schools. 								\n					\n				\n					\n		\n					\n		\n					\n		\n					\n		\n				\n						\n					\n			\n						\n							\n			\n											\n												\n											\n					\n											\n				\n									\n									\n						\n					\n		\n					\n		\n		\n					\n				\n				\n					\n	\n		\n\n	\n	Add to calendar	\n		\n	\n\n		\n			\n									\n	Google Calendar\n\n									\n	iCalendar\n\n									\n	Outlook 365\n\n									\n	Outlook Live\n\n							\n		\n\n		\n	\n\n				\n				\n				\n				\n					\n	« All Events
URL:https://roarkcreekresort.com/event/hamners-unbelievable-magic-variety-show/
ATTACH;FMTTYPE=image/webp:https://roarkcreekresort.com/wp-content/uploads/2026/04/Hero-3.webp
END:VEVENT
BEGIN:VEVENT
DTSTART;TZID=UTC:20260101T150000
DTEND;TZID=UTC:20261231T210000
DTSTAMP:20260423T144152
CREATED:20260223T120640Z
LAST-MODIFIED:20260223T121353Z
UID:6785-1767279600-1798750800@roarkcreekresort.com
SUMMARY:Hughes Brothers Branson Music Show
DESCRIPTION:Amazing Acrobats of Shanghai featuring Shanghai Circus				\n				\n				\n									\n					\n		\n					\n		\n				\n						\n					\n			\n						\n					World-Class Acrobatics & Jaw-Dropping Feats				\n				\n									Amazing Acrobats of Shanghai brings an internationally acclaimed circus experience to Branson\, featuring elite performers trained in traditional Chinese acrobatic arts. Audiences are treated to daring aerial acts\, precision balancing\, contortion\, and high-energy choreography that blends strength\, agility\, and beauty. Every act showcases years of discipline and skill\, making this one of Branson’s most visually stunning shows. Who It’s For: Families\, thrill-seekers\, and circus fans.What to Expect: Acrobatics\, balance acts\, and aerial stunts.Do’s: Sit closer for full visual impact.Don’ts: Don’t blink — you’ll miss something incredible. 								\n					\n		\n				\n			\n						\n						\n					\n			\n				\n					\n				\n									Information📍 Venue: Mickey Gilley Theatre Grand Shanghai \, 3455 W 76 Country Boulevard Branson\, MO 65616📞 Phone: 800-987-6298 🌐 Website: grandshanghaitheatre.com/shanghai-circusDistance from Roark Creek Resort: 4.9  miles / ~9 min Opening Hours🕒 Opening Hours: Showtimes vary What to Know• Type of Experience: Acrobatic circus performance.• Fun Fact: Performers are trained from a young age in traditional Chinese circus schools. 								\n					\n				\n					\n		\n					\n		\n					\n		\n					\n		\n				\n						\n					\n			\n						\n							\n			\n											\n												\n											\n					\n											\n				\n									\n									\n						\n					\n		\n					\n		\n		\n					\n				\n				\n					\n	\n		\n\n	\n	Add to calendar	\n		\n	\n\n		\n			\n									\n	Google Calendar\n\n									\n	iCalendar\n\n									\n	Outlook 365\n\n									\n	Outlook Live\n\n							\n		\n\n		\n	\n\n				\n				\n				\n				\n					\n	« All Events
URL:https://roarkcreekresort.com/event/hughes-brothers-branson-music-show/
ATTACH;FMTTYPE=image/webp:https://roarkcreekresort.com/wp-content/uploads/2026/02/hero-18.webp
END:VEVENT
BEGIN:VEVENT
DTSTART;TZID=UTC:20260101T150000
DTEND;TZID=UTC:20261231T210000
DTSTAMP:20260423T144152
CREATED:20260218T130107Z
LAST-MODIFIED:20260218T130524Z
UID:6712-1767279600-1798750800@roarkcreekresort.com
SUMMARY:Doug Gabriel Show
DESCRIPTION:Amazing Acrobats of Shanghai featuring Shanghai Circus				\n				\n				\n									\n					\n		\n					\n		\n				\n						\n					\n			\n						\n					World-Class Acrobatics & Jaw-Dropping Feats				\n				\n									Amazing Acrobats of Shanghai brings an internationally acclaimed circus experience to Branson\, featuring elite performers trained in traditional Chinese acrobatic arts. Audiences are treated to daring aerial acts\, precision balancing\, contortion\, and high-energy choreography that blends strength\, agility\, and beauty. Every act showcases years of discipline and skill\, making this one of Branson’s most visually stunning shows. Who It’s For: Families\, thrill-seekers\, and circus fans.What to Expect: Acrobatics\, balance acts\, and aerial stunts.Do’s: Sit closer for full visual impact.Don’ts: Don’t blink — you’ll miss something incredible. 								\n					\n		\n				\n			\n						\n						\n					\n			\n				\n					\n				\n									Information📍 Venue: Mickey Gilley Theatre Grand Shanghai \, 3455 W 76 Country Boulevard Branson\, MO 65616📞 Phone: 800-987-6298 🌐 Website: grandshanghaitheatre.com/shanghai-circusDistance from Roark Creek Resort: 4.9  miles / ~9 min Opening Hours🕒 Opening Hours: Showtimes vary What to Know• Type of Experience: Acrobatic circus performance.• Fun Fact: Performers are trained from a young age in traditional Chinese circus schools. 								\n					\n				\n					\n		\n					\n		\n					\n		\n					\n		\n				\n						\n					\n			\n						\n							\n			\n											\n												\n											\n					\n											\n				\n									\n									\n						\n					\n		\n					\n		\n		\n					\n				\n				\n					\n	\n		\n\n	\n	Add to calendar	\n		\n	\n\n		\n			\n									\n	Google Calendar\n\n									\n	iCalendar\n\n									\n	Outlook 365\n\n									\n	Outlook Live\n\n							\n		\n\n		\n	\n\n				\n				\n				\n				\n					\n	« All Events
URL:https://roarkcreekresort.com/event/doug-gabriel-show/
ATTACH;FMTTYPE=image/webp:https://roarkcreekresort.com/wp-content/uploads/2026/02/hero-14.webp
END:VEVENT
BEGIN:VEVENT
DTSTART;TZID=UTC:20260101T080000
DTEND;TZID=UTC:20261231T200000
DTSTAMP:20260423T144152
CREATED:20260203T142206Z
LAST-MODIFIED:20260203T142747Z
UID:6498-1767254400-1798747200@roarkcreekresort.com
SUMMARY:The Duttons – Branson Family Theatre Shows
DESCRIPTION:Amazing Acrobats of Shanghai featuring Shanghai Circus				\n				\n				\n									\n					\n		\n					\n		\n				\n						\n					\n			\n						\n					World-Class Acrobatics & Jaw-Dropping Feats				\n				\n									Amazing Acrobats of Shanghai brings an internationally acclaimed circus experience to Branson\, featuring elite performers trained in traditional Chinese acrobatic arts. Audiences are treated to daring aerial acts\, precision balancing\, contortion\, and high-energy choreography that blends strength\, agility\, and beauty. Every act showcases years of discipline and skill\, making this one of Branson’s most visually stunning shows. Who It’s For: Families\, thrill-seekers\, and circus fans.What to Expect: Acrobatics\, balance acts\, and aerial stunts.Do’s: Sit closer for full visual impact.Don’ts: Don’t blink — you’ll miss something incredible. 								\n					\n		\n				\n			\n						\n						\n					\n			\n				\n					\n				\n									Information📍 Venue: Mickey Gilley Theatre Grand Shanghai \, 3455 W 76 Country Boulevard Branson\, MO 65616📞 Phone: 800-987-6298 🌐 Website: grandshanghaitheatre.com/shanghai-circusDistance from Roark Creek Resort: 4.9  miles / ~9 min Opening Hours🕒 Opening Hours: Showtimes vary What to Know• Type of Experience: Acrobatic circus performance.• Fun Fact: Performers are trained from a young age in traditional Chinese circus schools. 								\n					\n				\n					\n		\n					\n		\n					\n		\n					\n		\n				\n						\n					\n			\n						\n							\n			\n											\n												\n											\n					\n											\n				\n									\n									\n						\n					\n		\n					\n		\n		\n					\n				\n				\n					\n	\n		\n\n	\n	Add to calendar	\n		\n	\n\n		\n			\n									\n	Google Calendar\n\n									\n	iCalendar\n\n									\n	Outlook 365\n\n									\n	Outlook Live\n\n							\n		\n\n		\n	\n\n				\n				\n				\n				\n					\n	« All Events
URL:https://roarkcreekresort.com/event/the-duttons-branson-family-theatre-shows/
ATTACH;FMTTYPE=image/webp:https://roarkcreekresort.com/wp-content/uploads/2026/02/Hero-6.webp
END:VEVENT
BEGIN:VEVENT
DTSTART;TZID=UTC:20260101T080000
DTEND;TZID=UTC:20261231T200000
DTSTAMP:20260423T144152
CREATED:20260203T141325Z
LAST-MODIFIED:20260203T141632Z
UID:6484-1767254400-1798747200@roarkcreekresort.com
SUMMARY:Smoke On The Mountain
DESCRIPTION:Amazing Acrobats of Shanghai featuring Shanghai Circus				\n				\n				\n									\n					\n		\n					\n		\n				\n						\n					\n			\n						\n					World-Class Acrobatics & Jaw-Dropping Feats				\n				\n									Amazing Acrobats of Shanghai brings an internationally acclaimed circus experience to Branson\, featuring elite performers trained in traditional Chinese acrobatic arts. Audiences are treated to daring aerial acts\, precision balancing\, contortion\, and high-energy choreography that blends strength\, agility\, and beauty. Every act showcases years of discipline and skill\, making this one of Branson’s most visually stunning shows. Who It’s For: Families\, thrill-seekers\, and circus fans.What to Expect: Acrobatics\, balance acts\, and aerial stunts.Do’s: Sit closer for full visual impact.Don’ts: Don’t blink — you’ll miss something incredible. 								\n					\n		\n				\n			\n						\n						\n					\n			\n				\n					\n				\n									Information📍 Venue: Mickey Gilley Theatre Grand Shanghai \, 3455 W 76 Country Boulevard Branson\, MO 65616📞 Phone: 800-987-6298 🌐 Website: grandshanghaitheatre.com/shanghai-circusDistance from Roark Creek Resort: 4.9  miles / ~9 min Opening Hours🕒 Opening Hours: Showtimes vary What to Know• Type of Experience: Acrobatic circus performance.• Fun Fact: Performers are trained from a young age in traditional Chinese circus schools. 								\n					\n				\n					\n		\n					\n		\n					\n		\n					\n		\n				\n						\n					\n			\n						\n							\n			\n											\n												\n											\n					\n											\n				\n									\n									\n						\n					\n		\n					\n		\n		\n					\n				\n				\n					\n	\n		\n\n	\n	Add to calendar	\n		\n	\n\n		\n			\n									\n	Google Calendar\n\n									\n	iCalendar\n\n									\n	Outlook 365\n\n									\n	Outlook Live\n\n							\n		\n\n		\n	\n\n				\n				\n				\n				\n					\n	« All Events
URL:https://roarkcreekresort.com/event/smoke-on-the-mountain/
ATTACH;FMTTYPE=image/webp:https://roarkcreekresort.com/wp-content/uploads/2026/02/Hero-5.webp
END:VEVENT
END:VCALENDAR