BEGIN:VCALENDAR
VERSION:2.0
PRODID:-//Roark Creek Resort Condos in Branson, MO - ECPv6.15.20//NONSGML v1.0//EN
CALSCALE:GREGORIAN
METHOD:PUBLISH
X-WR-CALNAME:Roark Creek Resort Condos in Branson, MO
X-ORIGINAL-URL:https://roarkcreekresort.com
X-WR-CALDESC:Events for Roark Creek Resort Condos in Branson, MO
REFRESH-INTERVAL;VALUE=DURATION:PT1H
X-Robots-Tag:noindex
X-PUBLISHED-TTL:PT1H
BEGIN:VTIMEZONE
TZID:UTC
BEGIN:STANDARD
TZOFFSETFROM:+0000
TZOFFSETTO:+0000
TZNAME:UTC
DTSTART:20250101T000000
END:STANDARD
END:VTIMEZONE
BEGIN:VEVENT
DTSTART;TZID=UTC:20260307T150000
DTEND;TZID=UTC:20271008T220000
DTSTAMP:20260422T220924
CREATED:20260218T132118Z
LAST-MODIFIED:20260218T132517Z
UID:6726-1772895600-1823032800@roarkcreekresort.com
SUMMARY:David at Sight & Sound Theatres® Branson
DESCRIPTION:Larry Gatlin and the Nelons – Live in Branson				\n				\n				\n									\n					\n		\n					\n		\n				\n						\n					\n			\n						\n					Gospel Harmony Meets Country Legacy				\n				\n									Larry Gatlin and the Nelons come together for a soul-stirring live performance that blends heartfelt gospel music with classic country influence. Known for rich harmonies and emotional delivery\, this show offers an uplifting experience rooted in faith and tradition. Audiences can expect inspirational songs\, personal stories\, and masterful vocals that resonate deeply with fans of gospel and country music alike. Who It’s For: Gospel music fans\, faith-based audiences\, and classic country lovers.What to Expect: Live vocals\, gospel harmonies\, and inspirational music.Do’s: Arrive early for seating.Don’ts: Don’t forget to stay for the encore. 								\n					\n		\n				\n			\n						\n						\n					\n			\n				\n					\n				\n									Information📍 Venue: Clay Coope Theatre📞 Phone: 417-332-2529🌐 Website: gatlinbrothers.comDistance from Roark Creek Resort: 4.4 miles / ~9 min Opening Hours🕒 Opening Hours: Evening shows 8:00pm – 11:00pm What to Know• Type of Experience: Gospel and country music concert.• Fun Fact: The Nelons are Grammy-nominated gospel artists. 								\n					\n				\n					\n		\n					\n		\n					\n		\n					\n		\n				\n						\n					\n			\n						\n							\n			\n											\n												\n											\n					\n											\n				\n									\n									\n						\n					\n		\n					\n		\n		\n					\n				\n				\n					\n	\n		\n\n	\n	Add to calendar	\n		\n	\n\n		\n			\n									\n	Google Calendar\n\n									\n	iCalendar\n\n									\n	Outlook 365\n\n									\n	Outlook Live\n\n							\n		\n\n		\n	\n\n				\n				\n				\n				\n					\n	« All Events
URL:https://roarkcreekresort.com/event/david-at-sight-sound-theatres-branson/
ATTACH;FMTTYPE=image/webp:https://roarkcreekresort.com/wp-content/uploads/2026/02/hero-15.webp
END:VEVENT
END:VCALENDAR