BEGIN:VCALENDAR
VERSION:2.0
PRODID:-//Roark Creek Resort Condos in Branson, MO - ECPv6.15.20//NONSGML v1.0//EN
CALSCALE:GREGORIAN
METHOD:PUBLISH
X-WR-CALNAME:Roark Creek Resort Condos in Branson, MO
X-ORIGINAL-URL:https://roarkcreekresort.com
X-WR-CALDESC:Events for Roark Creek Resort Condos in Branson, MO
REFRESH-INTERVAL;VALUE=DURATION:PT1H
X-Robots-Tag:noindex
X-PUBLISHED-TTL:PT1H
BEGIN:VTIMEZONE
TZID:UTC
BEGIN:STANDARD
TZOFFSETFROM:+0000
TZOFFSETTO:+0000
TZNAME:UTC
DTSTART:20250101T000000
END:STANDARD
END:VTIMEZONE
BEGIN:VEVENT
DTSTART;TZID=UTC:20260911T190000
DTEND;TZID=UTC:20260911T203000
DTSTAMP:20260422T200839
CREATED:20260422T155025Z
LAST-MODIFIED:20260422T155533Z
UID:7385-1789153200-1789158600@roarkcreekresort.com
SUMMARY:Kentucky Headhunters – Live in Branson
DESCRIPTION:Kentucky Headhunters – Live in Branson				\n				\n				\n									\n					\n		\n					\n		\n				\n						\n					\n			\n						\n					Southern Rock Meets Country Grit				\n				\n									The Kentucky Headhunters deliver a powerful blend of southern rock\, country\, and blues in this high-energy live performance. Known for their gritty sound and iconic hits\, the band brings authentic southern flavor to Branson. Fans can expect loud guitars\, classic tracks\, and a true rock-meets-country concert experience. Who It’s For: Southern rock fans and classic country lovers.What to Expect: Live band performance and high-energy music.Do’s: Get ready to rock.Don’ts: Don’t miss the opening set. 								\n					\n		\n				\n			\n						\n						\n					\n			\n				\n					\n				\n									Information📍 Venue: Branson\, Missouri📞 Phone: 417-335-2000🌐 Website: kentuckyheadhunters.comDistance from Roark Creek Resort: 3 miles / ~7 min Opening Hours🕒 Opening Hours: Evening show 7:00pm – 8:30pm What to Know• Type of Experience: Southern rock concert.• Fun Fact: The band won a Grammy Award for Best Country Performance. 								\n					\n				\n					\n		\n					\n		\n					\n		\n					\n		\n				\n						\n					\n			\n						\n							\n			\n											\n												\n											\n					\n											\n				\n									\n									\n						\n					\n		\n					\n		\n		\n					\n				\n				\n					\n	\n		\n\n	\n	Add to calendar	\n		\n	\n\n		\n			\n									\n	Google Calendar\n\n									\n	iCalendar\n\n									\n	Outlook 365\n\n									\n	Outlook Live\n\n							\n		\n\n		\n	\n\n				\n				\n				\n				\n					\n	« All Events
URL:https://roarkcreekresort.com/event/kentucky-headhunters-live-in-branson/
ATTACH;FMTTYPE=image/webp:https://roarkcreekresort.com/wp-content/uploads/2026/04/Hero-9.webp
END:VEVENT
END:VCALENDAR