BEGIN:VCALENDAR
VERSION:2.0
PRODID:-//Roark Creek Resort Condos in Branson, MO - ECPv6.15.20//NONSGML v1.0//EN
CALSCALE:GREGORIAN
METHOD:PUBLISH
X-WR-CALNAME:Roark Creek Resort Condos in Branson, MO
X-ORIGINAL-URL:https://roarkcreekresort.com
X-WR-CALDESC:Events for Roark Creek Resort Condos in Branson, MO
REFRESH-INTERVAL;VALUE=DURATION:PT1H
X-Robots-Tag:noindex
X-PUBLISHED-TTL:PT1H
BEGIN:VTIMEZONE
TZID:UTC
BEGIN:STANDARD
TZOFFSETFROM:+0000
TZOFFSETTO:+0000
TZNAME:UTC
DTSTART:20250101T000000
END:STANDARD
END:VTIMEZONE
BEGIN:VEVENT
DTSTART;TZID=UTC:20261101T100000
DTEND;TZID=UTC:20261130T213000
DTSTAMP:20260420T153044
CREATED:20260420T122841Z
LAST-MODIFIED:20260420T124220Z
UID:7400-1793527200-1796074200@roarkcreekresort.com
SUMMARY:Branson’s Christmas Wonderland – Branson’s Best Christmas Show
DESCRIPTION:Branson’s Christmas Wonderland – Branson’s Best Christmas Show				\n				\n				\n									\n					\n		\n					\n		\n				\n						\n					\n			\n						\n					A Magical Branson Christmas Tradition				\n				\n									Branson’s Christmas Wonderland is a high-energy holiday show featuring elaborate costumes\, beautifully staged musical numbers\, and beloved Christmas classics. This production captures the warmth and magic of the season\, making it a must-see for visitors during Branson’s Christmas celebration. Who It’s For: Families and holiday travelers.What to Expect: Christmas music\, dancing\, and festive visuals.Do’s: Bring the whole family.Don’ts: Don’t forget your holiday spirit! 								\n					\n		\n				\n			\n						\n						\n					\n			\n				\n					\n				\n									Information📍 Venue: King’s Castle Theatre📞 Phone: 417-334-2500🌐 Website: NADistance from Roark Creek Resort: 3.8 miles / ~9 min Opening Hours🕒 Opening Hours: Seasonal showtimes What to Know• Type of Experience: Christmas music spectacular.• Fun Fact: Costumes change multiple times throughout the show. 								\n					\n				\n					\n		\n					\n		\n					\n		\n					\n		\n				\n						\n					\n			\n						\n							\n			\n											\n												\n											\n					\n											\n				\n									\n									\n						\n					\n		\n					\n		\n		\n					\n				\n				\n					\n	\n		\n\n	\n	Add to calendar	\n		\n	\n\n		\n			\n									\n	Google Calendar\n\n									\n	iCalendar\n\n									\n	Outlook 365\n\n									\n	Outlook Live\n\n							\n		\n\n		\n	\n\n				\n				\n				\n				\n					\n	« All Events
URL:https://roarkcreekresort.com/event/bransons-christmas-wonderland-bransons-best-christmas-show/
ATTACH;FMTTYPE=image/webp:https://roarkcreekresort.com/wp-content/uploads/2026/04/Hero-2.webp
END:VEVENT
END:VCALENDAR